BEGIN:VCALENDAR
VERSION:2.0
PRODID:-//Tashmina Artists - ECPv6.15.20//NONSGML v1.0//EN
CALSCALE:GREGORIAN
METHOD:PUBLISH
X-WR-CALNAME:Tashmina Artists
X-ORIGINAL-URL:https://tashmina.co.uk
X-WR-CALDESC:Events for Tashmina Artists
REFRESH-INTERVAL;VALUE=DURATION:PT1H
X-Robots-Tag:noindex
X-PUBLISHED-TTL:PT1H
BEGIN:VTIMEZONE
TZID:Europe/London
BEGIN:DAYLIGHT
TZOFFSETFROM:+0000
TZOFFSETTO:+0100
TZNAME:BST
DTSTART:20210328T010000
END:DAYLIGHT
BEGIN:STANDARD
TZOFFSETFROM:+0100
TZOFFSETTO:+0000
TZNAME:GMT
DTSTART:20211031T010000
END:STANDARD
BEGIN:DAYLIGHT
TZOFFSETFROM:+0000
TZOFFSETTO:+0100
TZNAME:BST
DTSTART:20220327T010000
END:DAYLIGHT
BEGIN:STANDARD
TZOFFSETFROM:+0100
TZOFFSETTO:+0000
TZNAME:GMT
DTSTART:20221030T010000
END:STANDARD
BEGIN:DAYLIGHT
TZOFFSETFROM:+0000
TZOFFSETTO:+0100
TZNAME:BST
DTSTART:20230326T010000
END:DAYLIGHT
BEGIN:STANDARD
TZOFFSETFROM:+0100
TZOFFSETTO:+0000
TZNAME:GMT
DTSTART:20231029T010000
END:STANDARD
BEGIN:DAYLIGHT
TZOFFSETFROM:+0000
TZOFFSETTO:+0100
TZNAME:BST
DTSTART:20240331T010000
END:DAYLIGHT
BEGIN:STANDARD
TZOFFSETFROM:+0100
TZOFFSETTO:+0000
TZNAME:GMT
DTSTART:20241027T010000
END:STANDARD
BEGIN:DAYLIGHT
TZOFFSETFROM:+0000
TZOFFSETTO:+0100
TZNAME:BST
DTSTART:20250330T010000
END:DAYLIGHT
BEGIN:STANDARD
TZOFFSETFROM:+0100
TZOFFSETTO:+0000
TZNAME:GMT
DTSTART:20251026T010000
END:STANDARD
END:VTIMEZONE
BEGIN:VEVENT
DTSTART;TZID=Europe/London:20240511T193000
DTEND;TZID=Europe/London:20240511T193000
DTSTAMP:20260422T141048
CREATED:20231114T115801Z
LAST-MODIFIED:20240424T085847Z
UID:10002206-1715455800-1715455800@tashmina.co.uk
SUMMARY:Music@Wellhayes: Devon
DESCRIPTION:John Ireland: When May is in his prime\nRalph Vaughan Williams: Silence and Music\nJonathan Dove: In Beauty May I Walk\nJohn Ireland: The Hills\nGerald Finzi: I praise the tender flower\, from Seven Poems of Robert Bridges\, op. 17\, no.1\nGerald Finzi: I have loved flowers that fade\, from Seven Poems of Robert Bridges\, op. 17\, no. 2\nBenjamin Britten: Five Flower Songs\, op. 47\nInterval\nAlec Roth: The Flower\nAnon.: Ther is no rose of swych vertu\nJacobus Clemens non Papa: Ego flos campi a 3\nWilliam Byrd: This sweet and merry month of May\nRobert Lucas Pearsall: Sweet as a flower in May\nGustav Holst: Five Partsongs\nArthur Sullivan: Sullivan The long day closes
URL:https://tashmina.co.uk/concert/musicwellhayes-devon-3/
LOCATION:Wellhayes Vineyard\, Clayhanger\, Tiverton\, Devon\, EX16 7NY\, England
CATEGORIES:Corvus Consort
ATTACH;FMTTYPE=image/jpeg:https://tashmina.co.uk/wp-content/uploads/Corvus_Consort_ref-05_Quartet_Please_credit_Matthew_Johnson.jpg
GEO:51.0000163;-3.3936453
X-APPLE-STRUCTURED-LOCATION;VALUE=URI;X-ADDRESS=Wellhayes Vineyard Clayhanger Tiverton Devon EX16 7NY England;X-APPLE-RADIUS=500;X-TITLE=Clayhanger:geo:-3.3936453,51.0000163
END:VEVENT
BEGIN:VEVENT
DTSTART;TZID=Europe/London:20220709T193000
DTEND;TZID=Europe/London:20220709T193000
DTSTAMP:20260422T141048
CREATED:20220617T181052Z
LAST-MODIFIED:20220622T140723Z
UID:10001199-1657395000-1657395000@tashmina.co.uk
SUMMARY:Music@Wellhayes: Devon
DESCRIPTION:Max Reger – Morgengesang\, op. 138\, no. 2Robert Lucas Pearsall – Take\, O take those lips awayRobert Lucas Pearsall – Light of my soulRobert Lucas Pearsall – There is a paradise on EarthJohannes Brahms –  Fünf Gesänge\, op. 104Gustav Holst – Light Leaves WhisperMax Reger – Nachtlied\, op. 138\, no. 3 \nJudith Weir – Love bade me welcomeAlec Roth – I will move theeAlec Roth – Men & AngelsRebecca Clarke – Ave MariaFranz Lachner – Ave Maria\, op. 141/4Gerald Finzi – I praise the tender flower\, op. 17/1Gerald Finzi – Clear and gentle stream\, op. 17/4Gerald Finzi – Haste on\, my joys\, op. 17/6Gerald Finzi – Nightingales\, op. 17/5Max Bruch – Morgengesang\, op. 71\, no. 7
URL:https://tashmina.co.uk/concert/musicwellhayes-devon/
LOCATION:Wellhayes Vineyard\, Clayhanger\, Tiverton\, Devon\, EX16 7NY\, England
CATEGORIES:Corvus Consort
GEO:51.0000163;-3.3936453
X-APPLE-STRUCTURED-LOCATION;VALUE=URI;X-ADDRESS=Wellhayes Vineyard Clayhanger Tiverton Devon EX16 7NY England;X-APPLE-RADIUS=500;X-TITLE=Clayhanger:geo:-3.3936453,51.0000163
END:VEVENT
END:VCALENDAR