BEGIN:VCALENDAR
VERSION:2.0
PRODID:-//Tashmina Artists - ECPv6.15.20//NONSGML v1.0//EN
CALSCALE:GREGORIAN
METHOD:PUBLISH
X-ORIGINAL-URL:https://tashmina.co.uk
X-WR-CALDESC:Events for Tashmina Artists
REFRESH-INTERVAL;VALUE=DURATION:PT1H
X-Robots-Tag:noindex
X-PUBLISHED-TTL:PT1H
BEGIN:VTIMEZONE
TZID:Europe/London
BEGIN:DAYLIGHT
TZOFFSETFROM:+0000
TZOFFSETTO:+0100
TZNAME:BST
DTSTART:20230326T010000
END:DAYLIGHT
BEGIN:STANDARD
TZOFFSETFROM:+0100
TZOFFSETTO:+0000
TZNAME:GMT
DTSTART:20231029T010000
END:STANDARD
BEGIN:DAYLIGHT
TZOFFSETFROM:+0000
TZOFFSETTO:+0100
TZNAME:BST
DTSTART:20240331T010000
END:DAYLIGHT
BEGIN:STANDARD
TZOFFSETFROM:+0100
TZOFFSETTO:+0000
TZNAME:GMT
DTSTART:20241027T010000
END:STANDARD
BEGIN:DAYLIGHT
TZOFFSETFROM:+0000
TZOFFSETTO:+0100
TZNAME:BST
DTSTART:20250330T010000
END:DAYLIGHT
BEGIN:STANDARD
TZOFFSETFROM:+0100
TZOFFSETTO:+0000
TZNAME:GMT
DTSTART:20251026T010000
END:STANDARD
END:VTIMEZONE
BEGIN:VEVENT
DTSTART;TZID=Europe/London:20240724T080000
DTEND;TZID=Europe/London:20240724T080000
DTSTAMP:20260422T153056
CREATED:20240701T135513Z
LAST-MODIFIED:20240716T130202Z
UID:10002535-1721808000-1721808000@tashmina.co.uk
SUMMARY:BBC Radio 3: County Durham
DESCRIPTION:The Gould Piano Trio and Robert Plane\, joint Artistic Directors of Corbridge Chamber Music Festival\, promote this year’s edition\, playing live from The Bowes Museum on BBC Breakfast. \nLouise Farrenc: Trio for Clarinet\, Cello and Piano in E flat major\, op. 44\, Adagio\nBedřich Smetana: Piano Trio in G Minor\, op. 15\, Scherzo
URL:https://tashmina.co.uk/concert/bbc-radio-3-county-durham/
LOCATION:The Bowes Museum\, County Durham\, DL12 8NP\, United Kingdom
CATEGORIES:Gould Piano Trio,Robert Plane,Robert Plane and the Gould Piano Trio
ATTACH;FMTTYPE=image/jpeg:https://tashmina.co.uk/wp-content/uploads/Gould_Piano_Trio_and_Robert_Plane_Ref-5_please_credit_GPT.jpg
GEO:54.5420678;-1.9155205
END:VEVENT
END:VCALENDAR