BEGIN:VCALENDAR
VERSION:2.0
PRODID:-//Tashmina Artists - ECPv6.15.20//NONSGML v1.0//EN
CALSCALE:GREGORIAN
METHOD:PUBLISH
X-WR-CALNAME:Tashmina Artists
X-ORIGINAL-URL:https://tashmina.co.uk
X-WR-CALDESC:Events for Tashmina Artists
REFRESH-INTERVAL;VALUE=DURATION:PT1H
X-Robots-Tag:noindex
X-PUBLISHED-TTL:PT1H
BEGIN:VTIMEZONE
TZID:Europe/London
BEGIN:DAYLIGHT
TZOFFSETFROM:+0000
TZOFFSETTO:+0100
TZNAME:BST
DTSTART:20250330T010000
END:DAYLIGHT
BEGIN:STANDARD
TZOFFSETFROM:+0100
TZOFFSETTO:+0000
TZNAME:GMT
DTSTART:20251026T010000
END:STANDARD
BEGIN:DAYLIGHT
TZOFFSETFROM:+0000
TZOFFSETTO:+0100
TZNAME:BST
DTSTART:20260329T010000
END:DAYLIGHT
BEGIN:STANDARD
TZOFFSETFROM:+0100
TZOFFSETTO:+0000
TZNAME:GMT
DTSTART:20261025T010000
END:STANDARD
BEGIN:DAYLIGHT
TZOFFSETFROM:+0000
TZOFFSETTO:+0100
TZNAME:BST
DTSTART:20270328T010000
END:DAYLIGHT
BEGIN:STANDARD
TZOFFSETFROM:+0100
TZOFFSETTO:+0000
TZNAME:GMT
DTSTART:20271031T010000
END:STANDARD
END:VTIMEZONE
BEGIN:VEVENT
DTSTART;TZID=Europe/London:20260322T160000
DTEND;TZID=Europe/London:20260322T160000
DTSTAMP:20260423T163325
CREATED:20250828T092030Z
LAST-MODIFIED:20260311T095331Z
UID:10003169-1774195200-1774195200@tashmina.co.uk
SUMMARY:Stour Valley Arts and Music: Essex
DESCRIPTION:Wolfgang Amadeus Mozart: String Quartet no. 8 in F major\, K.168\nBedřich Smetana: Quartet no. 2 in D minor\nInterval\nFranz Schubert: Quartet in D minor\, D. 810 – Death and the Maiden
URL:https://tashmina.co.uk/concert/stour-valley-arts-and-music-essex/
LOCATION:St Mary’s Church East Bergholt\, The Street\, East Bergholt\, Colchester\, Essex\, CO7 6TG\, England
CATEGORIES:Wihan Quartet
ATTACH;FMTTYPE=image/jpeg:https://tashmina.co.uk/wp-content/uploads/Wihan_Quartet_Ref_17_Please_Credit_Petra_Hajska_Smed.jpg
GEO:51.9698669;1.0122536
X-APPLE-STRUCTURED-LOCATION;VALUE=URI;X-ADDRESS=St Mary’s Church East Bergholt The Street East Bergholt Colchester Essex CO7 6TG England;X-APPLE-RADIUS=500;X-TITLE=The Street\, East Bergholt\, Colchester:geo:1.0122536,51.9698669
END:VEVENT
END:VCALENDAR