BEGIN:VCALENDAR
VERSION:2.0
PRODID:-//Tashmina Artists - ECPv6.15.20//NONSGML v1.0//EN
CALSCALE:GREGORIAN
METHOD:PUBLISH
X-ORIGINAL-URL:https://tashmina.co.uk
X-WR-CALDESC:Events for Tashmina Artists
REFRESH-INTERVAL;VALUE=DURATION:PT1H
X-Robots-Tag:noindex
X-PUBLISHED-TTL:PT1H
BEGIN:VTIMEZONE
TZID:Europe/London
BEGIN:DAYLIGHT
TZOFFSETFROM:+0000
TZOFFSETTO:+0100
TZNAME:BST
DTSTART:20250330T010000
END:DAYLIGHT
BEGIN:STANDARD
TZOFFSETFROM:+0100
TZOFFSETTO:+0000
TZNAME:GMT
DTSTART:20251026T010000
END:STANDARD
BEGIN:DAYLIGHT
TZOFFSETFROM:+0000
TZOFFSETTO:+0100
TZNAME:BST
DTSTART:20260329T010000
END:DAYLIGHT
BEGIN:STANDARD
TZOFFSETFROM:+0100
TZOFFSETTO:+0000
TZNAME:GMT
DTSTART:20261025T010000
END:STANDARD
BEGIN:DAYLIGHT
TZOFFSETFROM:+0000
TZOFFSETTO:+0100
TZNAME:BST
DTSTART:20270328T010000
END:DAYLIGHT
BEGIN:STANDARD
TZOFFSETFROM:+0100
TZOFFSETTO:+0000
TZNAME:GMT
DTSTART:20271031T010000
END:STANDARD
END:VTIMEZONE
BEGIN:VEVENT
DTSTART;TZID=Europe/London:20260816T160000
DTEND;TZID=Europe/London:20260816T160000
DTSTAMP:20260423T162853
CREATED:20260212T153357Z
LAST-MODIFIED:20260223T145104Z
UID:10003449-1786896000-1786896000@tashmina.co.uk
SUMMARY:Latimer Festival: Buckinghamshire
DESCRIPTION:Benjamin Britten: Three DivertimentiWolfgang Amadeus Mozart: Quartet no. 1 in G major\, K. 80\, LodiAnatoly Lyadov: Sarabande in G minorAnatoly Lyadov: Fugue in D minorRobert Schumann: Quartet F major\, op. 41\, no\, 2
URL:https://tashmina.co.uk/concert/latimer-festival-buckinghamshire/
LOCATION:St Mary Magdalene Church\, Latimer\, Latimer\, Buckinghamshire\, HP5 1UG\, England
CATEGORIES:Heath String Quartet
ATTACH;FMTTYPE=image/jpeg:https://tashmina.co.uk/wp-content/uploads/Heath_Quartet_Ref_002_Please_Credit_Christian_Sinibaldi.jpg
GEO:51.6803565;-0.5541642
X-APPLE-STRUCTURED-LOCATION;VALUE=URI;X-ADDRESS=St Mary Magdalene Church Latimer Latimer Buckinghamshire HP5 1UG England;X-APPLE-RADIUS=500;X-TITLE=Latimer:geo:-0.5541642,51.6803565
END:VEVENT
END:VCALENDAR