BEGIN:VCALENDAR
VERSION:2.0
PRODID:-//Tashmina Artists - ECPv6.15.20//NONSGML v1.0//EN
CALSCALE:GREGORIAN
METHOD:PUBLISH
X-ORIGINAL-URL:https://tashmina.co.uk
X-WR-CALDESC:Events for Tashmina Artists
REFRESH-INTERVAL;VALUE=DURATION:PT1H
X-Robots-Tag:noindex
X-PUBLISHED-TTL:PT1H
BEGIN:VTIMEZONE
TZID:Europe/London
BEGIN:DAYLIGHT
TZOFFSETFROM:+0000
TZOFFSETTO:+0100
TZNAME:BST
DTSTART:20250330T010000
END:DAYLIGHT
BEGIN:STANDARD
TZOFFSETFROM:+0100
TZOFFSETTO:+0000
TZNAME:GMT
DTSTART:20251026T010000
END:STANDARD
BEGIN:DAYLIGHT
TZOFFSETFROM:+0000
TZOFFSETTO:+0100
TZNAME:BST
DTSTART:20260329T010000
END:DAYLIGHT
BEGIN:STANDARD
TZOFFSETFROM:+0100
TZOFFSETTO:+0000
TZNAME:GMT
DTSTART:20261025T010000
END:STANDARD
BEGIN:DAYLIGHT
TZOFFSETFROM:+0000
TZOFFSETTO:+0100
TZNAME:BST
DTSTART:20270328T010000
END:DAYLIGHT
BEGIN:STANDARD
TZOFFSETFROM:+0100
TZOFFSETTO:+0000
TZNAME:GMT
DTSTART:20271031T010000
END:STANDARD
END:VTIMEZONE
BEGIN:VEVENT
DTSTART;TZID=Europe/London:20260618T183000
DTEND;TZID=Europe/London:20260618T183000
DTSTAMP:20260419T132826
CREATED:20251127T095903Z
LAST-MODIFIED:20251203T090853Z
UID:10003367-1781807400-1781807400@tashmina.co.uk
SUMMARY:Kirker Holidays: Winchester
DESCRIPTION:Franz Joseph Haydn: Quartet no. 35 in D minor\, op. 42Gioachino Rossini: Duet for Cello and Double Bass in D Major\, Andante molto and AllegroAntonin Dvořák: String Quintet no. 2 in G major\, op. 77
URL:https://tashmina.co.uk/concert/kirker-holidays-winchester/
LOCATION:St Cross Church\, St Cross Back St\, Winchester\, SO23 9SD\, England
CATEGORIES:Ensemble 360,Rachel Roberts
ATTACH;FMTTYPE=image/jpeg:https://tashmina.co.uk/wp-content/uploads/Ensemble_360_String_Quartet_Ref-4_please_credit_Kaupo_Kikkas-SMed.jpg
GEO:51.0480978;-1.3223014
X-APPLE-STRUCTURED-LOCATION;VALUE=URI;X-ADDRESS=St Cross Church St Cross Back St Winchester SO23 9SD England;X-APPLE-RADIUS=500;X-TITLE=St Cross Back St:geo:-1.3223014,51.0480978
END:VEVENT
END:VCALENDAR