BEGIN:VCALENDAR
VERSION:2.0
PRODID:-//Tashmina Artists - ECPv6.15.20//NONSGML v1.0//EN
CALSCALE:GREGORIAN
METHOD:PUBLISH
X-WR-CALNAME:Tashmina Artists
X-ORIGINAL-URL:https://tashmina.co.uk
X-WR-CALDESC:Events for Tashmina Artists
REFRESH-INTERVAL;VALUE=DURATION:PT1H
X-Robots-Tag:noindex
X-PUBLISHED-TTL:PT1H
BEGIN:VTIMEZONE
TZID:Europe/London
BEGIN:DAYLIGHT
TZOFFSETFROM:+0000
TZOFFSETTO:+0100
TZNAME:BST
DTSTART:20230326T010000
END:DAYLIGHT
BEGIN:STANDARD
TZOFFSETFROM:+0100
TZOFFSETTO:+0000
TZNAME:GMT
DTSTART:20231029T010000
END:STANDARD
BEGIN:DAYLIGHT
TZOFFSETFROM:+0000
TZOFFSETTO:+0100
TZNAME:BST
DTSTART:20240331T010000
END:DAYLIGHT
BEGIN:STANDARD
TZOFFSETFROM:+0100
TZOFFSETTO:+0000
TZNAME:GMT
DTSTART:20241027T010000
END:STANDARD
BEGIN:DAYLIGHT
TZOFFSETFROM:+0000
TZOFFSETTO:+0100
TZNAME:BST
DTSTART:20250330T010000
END:DAYLIGHT
BEGIN:STANDARD
TZOFFSETFROM:+0100
TZOFFSETTO:+0000
TZNAME:GMT
DTSTART:20251026T010000
END:STANDARD
END:VTIMEZONE
BEGIN:VEVENT
DTSTART;VALUE=DATE:20240407
DTEND;VALUE=DATE:20240410
DTSTAMP:20260421T212334
CREATED:20230902T145949Z
LAST-MODIFIED:20240305T123121Z
UID:10002094-1712448000-1712707199@tashmina.co.uk
SUMMARY:Chandos Records: London
DESCRIPTION:
URL:https://tashmina.co.uk/concert/chandos-records-london-3/
LOCATION:St. Augustine’s Church\, Kilburn\, Kilburn Park Road\, London\, NW6 5XB\, England
CATEGORIES:Corvus Consort,Louise Thomson
ATTACH;FMTTYPE=image/jpeg:https://tashmina.co.uk/wp-content/uploads/Corvus-Consort-and-Louise-Thomson-at-Whiddon-Autumn-Festival-please-credit-Felix-Alexander-Bush-1800px.jpg
GEO:51.5338279;-0.1918148
X-APPLE-STRUCTURED-LOCATION;VALUE=URI;X-ADDRESS=St. Augustine’s Church Kilburn Kilburn Park Road London NW6 5XB England;X-APPLE-RADIUS=500;X-TITLE=Kilburn Park Road:geo:-0.1918148,51.5338279
END:VEVENT
END:VCALENDAR