BEGIN:VCALENDAR
VERSION:2.0
PRODID:-//Tashmina Artists - ECPv6.15.20//NONSGML v1.0//EN
CALSCALE:GREGORIAN
METHOD:PUBLISH
X-ORIGINAL-URL:https://tashmina.co.uk
X-WR-CALDESC:Events for Tashmina Artists
REFRESH-INTERVAL;VALUE=DURATION:PT1H
X-Robots-Tag:noindex
X-PUBLISHED-TTL:PT1H
BEGIN:VTIMEZONE
TZID:Europe/London
BEGIN:DAYLIGHT
TZOFFSETFROM:+0000
TZOFFSETTO:+0100
TZNAME:BST
DTSTART:20250330T010000
END:DAYLIGHT
BEGIN:STANDARD
TZOFFSETFROM:+0100
TZOFFSETTO:+0000
TZNAME:GMT
DTSTART:20251026T010000
END:STANDARD
BEGIN:DAYLIGHT
TZOFFSETFROM:+0000
TZOFFSETTO:+0100
TZNAME:BST
DTSTART:20260329T010000
END:DAYLIGHT
BEGIN:STANDARD
TZOFFSETFROM:+0100
TZOFFSETTO:+0000
TZNAME:GMT
DTSTART:20261025T010000
END:STANDARD
BEGIN:DAYLIGHT
TZOFFSETFROM:+0000
TZOFFSETTO:+0100
TZNAME:BST
DTSTART:20270328T010000
END:DAYLIGHT
BEGIN:STANDARD
TZOFFSETFROM:+0100
TZOFFSETTO:+0000
TZNAME:GMT
DTSTART:20271031T010000
END:STANDARD
END:VTIMEZONE
BEGIN:VEVENT
DTSTART;VALUE=DATE:20260710
DTEND;VALUE=DATE:20260713
DTSTAMP:20260423T162806
CREATED:20260223T145106Z
LAST-MODIFIED:20260405T185916Z
UID:10003459-1783641600-1783900799@tashmina.co.uk
SUMMARY:Pro Corda: Suffolk
DESCRIPTION:Heath Quartet Coaching Weekend at Pro Corda
URL:https://tashmina.co.uk/concert/pro-corda-suffolk/
LOCATION:Leiston Abbey\, Abbey Road\, Suffolk\, IP16 4TD\, England
CATEGORIES:Heath String Quartet
ATTACH;FMTTYPE=image/jpeg:https://tashmina.co.uk/wp-content/uploads/Heath_Quartet_Ref_002_Please_Credit_Christian_Sinibaldi.jpg
GEO:52.220459;1.5806444
X-APPLE-STRUCTURED-LOCATION;VALUE=URI;X-ADDRESS=Leiston Abbey Abbey Road Suffolk IP16 4TD England;X-APPLE-RADIUS=500;X-TITLE=Abbey Road:geo:1.5806444,52.220459
END:VEVENT
END:VCALENDAR