BEGIN:VCALENDAR
VERSION:2.0
PRODID:-//Tashmina Artists - ECPv6.15.20//NONSGML v1.0//EN
CALSCALE:GREGORIAN
METHOD:PUBLISH
X-ORIGINAL-URL:https://tashmina.co.uk
X-WR-CALDESC:Events for Tashmina Artists
REFRESH-INTERVAL;VALUE=DURATION:PT1H
X-Robots-Tag:noindex
X-PUBLISHED-TTL:PT1H
BEGIN:VTIMEZONE
TZID:Europe/London
BEGIN:DAYLIGHT
TZOFFSETFROM:+0000
TZOFFSETTO:+0100
TZNAME:BST
DTSTART:20200329T010000
END:DAYLIGHT
BEGIN:STANDARD
TZOFFSETFROM:+0100
TZOFFSETTO:+0000
TZNAME:GMT
DTSTART:20201025T010000
END:STANDARD
BEGIN:DAYLIGHT
TZOFFSETFROM:+0000
TZOFFSETTO:+0100
TZNAME:BST
DTSTART:20210328T010000
END:DAYLIGHT
BEGIN:STANDARD
TZOFFSETFROM:+0100
TZOFFSETTO:+0000
TZNAME:GMT
DTSTART:20211031T010000
END:STANDARD
BEGIN:DAYLIGHT
TZOFFSETFROM:+0000
TZOFFSETTO:+0100
TZNAME:BST
DTSTART:20220327T010000
END:DAYLIGHT
BEGIN:STANDARD
TZOFFSETFROM:+0100
TZOFFSETTO:+0000
TZNAME:GMT
DTSTART:20221030T010000
END:STANDARD
END:VTIMEZONE
BEGIN:VEVENT
DTSTART;TZID=Europe/London:20211120T110000
DTEND;TZID=Europe/London:20211120T110000
DTSTAMP:20260422T135218
CREATED:20210921T110220Z
LAST-MODIFIED:20220818T102515Z
UID:10000979-1637406000-1637406000@tashmina.co.uk
SUMMARY:Bath Mozart Fest: Somerset
DESCRIPTION:Mozart Piano Trio in B flat major\, K. 502Dvorák Piano Trio in E minor\, op. 90\, DumkyMendelssohn Piano Trio in C minor\, op. 66
URL:https://tashmina.co.uk/concert/bath-mozart-fest-somerset/
LOCATION:Bath Assembly Rooms\, Bennett Street\, Bath\, Somerset\, BA1 2QH\, England
CATEGORIES:Tim Horton
ATTACH;FMTTYPE=image/jpeg:https://tashmina.co.uk/wp-content/uploads/Leonore_Piano_Trio_-_photo_-_please_credit_Eric_Richmond_4-1000x667-1.jpg
GEO:51.3865768;-2.3626905
X-APPLE-STRUCTURED-LOCATION;VALUE=URI;X-ADDRESS=Bath Assembly Rooms Bennett Street Bath Somerset BA1 2QH England;X-APPLE-RADIUS=500;X-TITLE=Bennett Street:geo:-2.3626905,51.3865768
END:VEVENT
END:VCALENDAR