BEGIN:VCALENDAR
VERSION:2.0
PRODID:-//Tashmina Artists - ECPv6.15.20//NONSGML v1.0//EN
CALSCALE:GREGORIAN
METHOD:PUBLISH
X-WR-CALNAME:Tashmina Artists
X-ORIGINAL-URL:https://tashmina.co.uk
X-WR-CALDESC:Events for Tashmina Artists
REFRESH-INTERVAL;VALUE=DURATION:PT1H
X-Robots-Tag:noindex
X-PUBLISHED-TTL:PT1H
BEGIN:VTIMEZONE
TZID:Europe/London
BEGIN:DAYLIGHT
TZOFFSETFROM:+0000
TZOFFSETTO:+0100
TZNAME:BST
DTSTART:20220327T010000
END:DAYLIGHT
BEGIN:STANDARD
TZOFFSETFROM:+0100
TZOFFSETTO:+0000
TZNAME:GMT
DTSTART:20221030T010000
END:STANDARD
BEGIN:DAYLIGHT
TZOFFSETFROM:+0000
TZOFFSETTO:+0100
TZNAME:BST
DTSTART:20230326T010000
END:DAYLIGHT
BEGIN:STANDARD
TZOFFSETFROM:+0100
TZOFFSETTO:+0000
TZNAME:GMT
DTSTART:20231029T010000
END:STANDARD
BEGIN:DAYLIGHT
TZOFFSETFROM:+0000
TZOFFSETTO:+0100
TZNAME:BST
DTSTART:20240331T010000
END:DAYLIGHT
BEGIN:STANDARD
TZOFFSETFROM:+0100
TZOFFSETTO:+0000
TZNAME:GMT
DTSTART:20241027T010000
END:STANDARD
END:VTIMEZONE
BEGIN:VEVENT
DTSTART;TZID=Europe/London:20230917T113000
DTEND;TZID=Europe/London:20230917T123000
DTSTAMP:20260419T135637
CREATED:20230816T145531Z
LAST-MODIFIED:20230823T202200Z
UID:10002075-1694950200-1694953800@tashmina.co.uk
SUMMARY:Whiddon Autumn Festival: Devon
DESCRIPTION:“Let’s Dance!” \nA concert for children and their grown-ups.  \nFeaturing\, percussion\, singing\, dancing and informal introductions\, Louise Thomson will play a range of music on the harp including Bach\, Tchaikovsky and Gershwin. This is a fun\, sensory and informal concert for children and their grown ups (ideal age range 2-6 years).
URL:https://tashmina.co.uk/concert/whiddon-autumn-festival-devon-14/
LOCATION:Astor’s Bookshop\, 2 The Square\, Chagford\, Devon\, TQ13 8BT\, England
CATEGORIES:Louise Thomson
ATTACH;FMTTYPE=image/jpeg:https://tashmina.co.uk/wp-content/uploads/2019/09/Louise_Thomson_Ref_014_2019_Please_credit_Sara_Porter.jpg
GEO:50.6736266;-3.8397189
X-APPLE-STRUCTURED-LOCATION;VALUE=URI;X-ADDRESS=Astor’s Bookshop 2 The Square Chagford Devon TQ13 8BT England;X-APPLE-RADIUS=500;X-TITLE=2 The Square:geo:-3.8397189,50.6736266
END:VEVENT
END:VCALENDAR