BEGIN:VCALENDAR
VERSION:2.0
PRODID:-//Tashmina Artists - ECPv6.15.20//NONSGML v1.0//EN
CALSCALE:GREGORIAN
METHOD:PUBLISH
X-ORIGINAL-URL:https://tashmina.co.uk
X-WR-CALDESC:Events for Tashmina Artists
REFRESH-INTERVAL;VALUE=DURATION:PT1H
X-Robots-Tag:noindex
X-PUBLISHED-TTL:PT1H
BEGIN:VTIMEZONE
TZID:Europe/London
BEGIN:DAYLIGHT
TZOFFSETFROM:+0000
TZOFFSETTO:+0100
TZNAME:BST
DTSTART:20250330T010000
END:DAYLIGHT
BEGIN:STANDARD
TZOFFSETFROM:+0100
TZOFFSETTO:+0000
TZNAME:GMT
DTSTART:20251026T010000
END:STANDARD
BEGIN:DAYLIGHT
TZOFFSETFROM:+0000
TZOFFSETTO:+0100
TZNAME:BST
DTSTART:20260329T010000
END:DAYLIGHT
BEGIN:STANDARD
TZOFFSETFROM:+0100
TZOFFSETTO:+0000
TZNAME:GMT
DTSTART:20261025T010000
END:STANDARD
BEGIN:DAYLIGHT
TZOFFSETFROM:+0000
TZOFFSETTO:+0100
TZNAME:BST
DTSTART:20270328T010000
END:DAYLIGHT
BEGIN:STANDARD
TZOFFSETFROM:+0100
TZOFFSETTO:+0000
TZNAME:GMT
DTSTART:20271031T010000
END:STANDARD
END:VTIMEZONE
BEGIN:VEVENT
DTSTART;TZID=Europe/London:20260808T193000
DTEND;TZID=Europe/London:20260808T193000
DTSTAMP:20260420T151444
CREATED:20260402T185023Z
LAST-MODIFIED:20260405T185840Z
UID:10003493-1786217400-1786217400@tashmina.co.uk
SUMMARY:The Music Summer School and Festival: Norfolk
DESCRIPTION:Benjamin Britten: String Quartet no. 2 in C major\, op. 36Pyotr Il’yich Tchaikovsky: Quartet no. 3 in E flat minor\, op. 30
URL:https://tashmina.co.uk/concert/the-music-summer-school-and-festival-norfolk-8/
LOCATION:Gresham’s School\, Cromer Road\, Holt\, Norfolk\, Norfolk\, NR25 6EA\, England
CATEGORIES:Wihan Quartet
ATTACH;FMTTYPE=image/jpeg:https://tashmina.co.uk/wp-content/uploads/Wihan_Quartet_Ref_17_Please_Credit_Petra_Hajska_Smed.jpg
GEO:52.9103474;1.1075299
X-APPLE-STRUCTURED-LOCATION;VALUE=URI;X-ADDRESS=Gresham’s School Cromer Road Holt Norfolk Norfolk NR25 6EA England;X-APPLE-RADIUS=500;X-TITLE=Cromer Road\, Holt:geo:1.1075299,52.9103474
END:VEVENT
BEGIN:VEVENT
DTSTART;TZID=Europe/London:20260810T193000
DTEND;TZID=Europe/London:20260810T193000
DTSTAMP:20260420T151444
CREATED:20251222T194629Z
LAST-MODIFIED:20260405T185839Z
UID:10003401-1786390200-1786390200@tashmina.co.uk
SUMMARY:The Music Summer School and Festival: Norfolk
DESCRIPTION:Benjamin Britten: Phantasy Quartet op. 2Ludwig van Beethoven: Septet in E flat major\, op. 20
URL:https://tashmina.co.uk/concert/the-music-summer-school-and-festival-norfolk-6/
LOCATION:Gresham’s School\, Cromer Road\, Holt\, Norfolk\, Norfolk\, NR25 6EA\, England
CATEGORIES:Ensemble 360,Rachel Roberts,Robert Plane
ATTACH;FMTTYPE=image/jpeg:https://tashmina.co.uk/wp-content/uploads/Rachel_Roberts_ref_08071_ls_Please_Credit_Ekaterina_Kantur_sm.jpg
GEO:52.9103474;1.1075299
X-APPLE-STRUCTURED-LOCATION;VALUE=URI;X-ADDRESS=Gresham’s School Cromer Road Holt Norfolk Norfolk NR25 6EA England;X-APPLE-RADIUS=500;X-TITLE=Cromer Road\, Holt:geo:1.1075299,52.9103474
END:VEVENT
BEGIN:VEVENT
DTSTART;TZID=Europe/London:20260811T171500
DTEND;TZID=Europe/London:20260811T171500
DTSTAMP:20260420T151444
CREATED:20251222T194628Z
LAST-MODIFIED:20260405T185823Z
UID:10003400-1786468500-1786468500@tashmina.co.uk
SUMMARY:The Music Summer School and Festival: Norfolk
DESCRIPTION:Wolfgang Amadeus Mozart: Quintet in E flat major for Piano and Winds\, K. 452Antonin Dvořák: Piano Quartet in E flat major\, op. 87
URL:https://tashmina.co.uk/concert/the-music-summer-school-and-festival-norfolk-5/
LOCATION:Gresham’s School\, Cromer Road\, Holt\, Norfolk\, Norfolk\, NR25 6EA\, England
CATEGORIES:Ensemble 360,Rachel Roberts,Robert Plane,Tim Horton
ATTACH;FMTTYPE=image/jpeg:https://tashmina.co.uk/wp-content/uploads/Rachel_Roberts_ref_07943_ls_Please_Credit_Ekaterina_Kantur_sm.jpg
GEO:52.9103474;1.1075299
X-APPLE-STRUCTURED-LOCATION;VALUE=URI;X-ADDRESS=Gresham’s School Cromer Road Holt Norfolk Norfolk NR25 6EA England;X-APPLE-RADIUS=500;X-TITLE=Cromer Road\, Holt:geo:1.1075299,52.9103474
END:VEVENT
BEGIN:VEVENT
DTSTART;TZID=Europe/London:20260811T213000
DTEND;TZID=Europe/London:20260811T213000
DTSTAMP:20260420T151444
CREATED:20260402T185022Z
LAST-MODIFIED:20260405T185823Z
UID:10003492-1786483800-1786483800@tashmina.co.uk
SUMMARY:The Music Summer School and Festival: Norfolk
DESCRIPTION:Robert Schumann: Piano Quintet in E flat major\, op. 44
URL:https://tashmina.co.uk/concert/the-music-summer-school-and-festival-norfolk-7/
LOCATION:Gresham’s School\, Cromer Road\, Holt\, Norfolk\, Norfolk\, NR25 6EA\, England
CATEGORIES:Wihan Quartet
ATTACH;FMTTYPE=image/jpeg:https://tashmina.co.uk/wp-content/uploads/Wihan_Quartet_Ref_09_Please_Credit_Petra_Hajska-SMed-1.jpg
GEO:52.9103474;1.1075299
X-APPLE-STRUCTURED-LOCATION;VALUE=URI;X-ADDRESS=Gresham’s School Cromer Road Holt Norfolk Norfolk NR25 6EA England;X-APPLE-RADIUS=500;X-TITLE=Cromer Road\, Holt:geo:1.1075299,52.9103474
END:VEVENT
BEGIN:VEVENT
DTSTART;TZID=Europe/London:20260812T213000
DTEND;TZID=Europe/London:20260812T213000
DTSTAMP:20260420T151444
CREATED:20251222T194627Z
LAST-MODIFIED:20260405T185822Z
UID:10003399-1786570200-1786570200@tashmina.co.uk
SUMMARY:The Music Summer School and Festival: Norfolk
DESCRIPTION:Ludwig van Beethoven: Quintet for Piano and Winds in E flat major\, op. 16Johannes Brahms: Piano Quartet no. 1 in G minor\, op. 25
URL:https://tashmina.co.uk/concert/the-music-summer-school-and-festival-norfolk-4/
LOCATION:Gresham’s School\, Cromer Road\, Holt\, Norfolk\, Norfolk\, NR25 6EA\, England
CATEGORIES:Ensemble 360,Rachel Roberts,Robert Plane,Tim Horton
ATTACH;FMTTYPE=image/jpeg:https://tashmina.co.uk/wp-content/uploads/Rachel_Roberts_ref_08071_ls_Please_Credit_Ekaterina_Kantur_sm.jpg
GEO:52.9103474;1.1075299
X-APPLE-STRUCTURED-LOCATION;VALUE=URI;X-ADDRESS=Gresham’s School Cromer Road Holt Norfolk Norfolk NR25 6EA England;X-APPLE-RADIUS=500;X-TITLE=Cromer Road\, Holt:geo:1.1075299,52.9103474
END:VEVENT
END:VCALENDAR