BEGIN:VCALENDAR
VERSION:2.0
PRODID:-//Tashmina Artists - ECPv6.15.20//NONSGML v1.0//EN
CALSCALE:GREGORIAN
METHOD:PUBLISH
X-ORIGINAL-URL:https://tashmina.co.uk
X-WR-CALDESC:Events for Tashmina Artists
REFRESH-INTERVAL;VALUE=DURATION:PT1H
X-Robots-Tag:noindex
X-PUBLISHED-TTL:PT1H
BEGIN:VTIMEZONE
TZID:Europe/London
BEGIN:DAYLIGHT
TZOFFSETFROM:+0000
TZOFFSETTO:+0100
TZNAME:BST
DTSTART:20250330T010000
END:DAYLIGHT
BEGIN:STANDARD
TZOFFSETFROM:+0100
TZOFFSETTO:+0000
TZNAME:GMT
DTSTART:20251026T010000
END:STANDARD
BEGIN:DAYLIGHT
TZOFFSETFROM:+0000
TZOFFSETTO:+0100
TZNAME:BST
DTSTART:20260329T010000
END:DAYLIGHT
BEGIN:STANDARD
TZOFFSETFROM:+0100
TZOFFSETTO:+0000
TZNAME:GMT
DTSTART:20261025T010000
END:STANDARD
BEGIN:DAYLIGHT
TZOFFSETFROM:+0000
TZOFFSETTO:+0100
TZNAME:BST
DTSTART:20270328T010000
END:DAYLIGHT
BEGIN:STANDARD
TZOFFSETFROM:+0100
TZOFFSETTO:+0000
TZNAME:GMT
DTSTART:20271031T010000
END:STANDARD
END:VTIMEZONE
BEGIN:VEVENT
DTSTART;TZID=Europe/London:20260305T193000
DTEND;TZID=Europe/London:20260305T193000
DTSTAMP:20260422T172628
CREATED:20250811T160946Z
LAST-MODIFIED:20260217T085718Z
UID:10003151-1772739000-1772739000@tashmina.co.uk
SUMMARY:Royal Irish Academy Wigmore Series Dublin: Dublin 2
DESCRIPTION:With Wigmore Soloists \nCarl Maria von Weber: Introduction\, Theme and Variations for Clarinet Quintet in B flat major\, op. 34Wolfgang Amadeus Mozart: Clarinet Quintet in A major\, K. 581IntervalJohannes Brahms: Clarinet Quintet in B minor\, op. 115
URL:https://tashmina.co.uk/concert/royal-irish-academy-wigmore-series-dublin-dublin-2/
LOCATION:Royal Irish Academy of Music – Whyte Recital Hall\, 36-38 Westland Row\, Dublin 2\, D02 WY89\, Ireland
CATEGORIES:Rachel Roberts
ATTACH;FMTTYPE=image/jpeg:https://tashmina.co.uk/wp-content/uploads/Rachel_Roberts_ref_08071_ls_Please_Credit_Ekaterina_Kantur_sm.jpg
GEO:53.3423388;-6.2501342
X-APPLE-STRUCTURED-LOCATION;VALUE=URI;X-ADDRESS=Royal Irish Academy of Music – Whyte Recital Hall 36-38 Westland Row Dublin 2 D02 WY89 Ireland;X-APPLE-RADIUS=500;X-TITLE=36-38 Westland Row:geo:-6.2501342,53.3423388
END:VEVENT
END:VCALENDAR