BEGIN:VCALENDAR
VERSION:2.0
PRODID:-//Tashmina Artists - ECPv6.15.20//NONSGML v1.0//EN
CALSCALE:GREGORIAN
METHOD:PUBLISH
X-WR-CALNAME:Tashmina Artists
X-ORIGINAL-URL:https://tashmina.co.uk
X-WR-CALDESC:Events for Tashmina Artists
REFRESH-INTERVAL;VALUE=DURATION:PT1H
X-Robots-Tag:noindex
X-PUBLISHED-TTL:PT1H
BEGIN:VTIMEZONE
TZID:Europe/London
BEGIN:DAYLIGHT
TZOFFSETFROM:+0000
TZOFFSETTO:+0100
TZNAME:BST
DTSTART:20230326T010000
END:DAYLIGHT
BEGIN:STANDARD
TZOFFSETFROM:+0100
TZOFFSETTO:+0000
TZNAME:GMT
DTSTART:20231029T010000
END:STANDARD
BEGIN:DAYLIGHT
TZOFFSETFROM:+0000
TZOFFSETTO:+0100
TZNAME:BST
DTSTART:20240331T010000
END:DAYLIGHT
BEGIN:STANDARD
TZOFFSETFROM:+0100
TZOFFSETTO:+0000
TZNAME:GMT
DTSTART:20241027T010000
END:STANDARD
BEGIN:DAYLIGHT
TZOFFSETFROM:+0000
TZOFFSETTO:+0100
TZNAME:BST
DTSTART:20250330T010000
END:DAYLIGHT
BEGIN:STANDARD
TZOFFSETFROM:+0100
TZOFFSETTO:+0000
TZNAME:GMT
DTSTART:20251026T010000
END:STANDARD
BEGIN:DAYLIGHT
TZOFFSETFROM:+0000
TZOFFSETTO:+0100
TZNAME:BST
DTSTART:20260329T010000
END:DAYLIGHT
BEGIN:STANDARD
TZOFFSETFROM:+0100
TZOFFSETTO:+0000
TZNAME:GMT
DTSTART:20261025T010000
END:STANDARD
BEGIN:DAYLIGHT
TZOFFSETFROM:+0000
TZOFFSETTO:+0100
TZNAME:BST
DTSTART:20270328T010000
END:DAYLIGHT
BEGIN:STANDARD
TZOFFSETFROM:+0100
TZOFFSETTO:+0000
TZNAME:GMT
DTSTART:20271031T010000
END:STANDARD
END:VTIMEZONE
BEGIN:VEVENT
DTSTART;TZID=Europe/London:20260125T113000
DTEND;TZID=Europe/London:20260125T113000
DTSTAMP:20260422T172347
CREATED:20250113T184256Z
LAST-MODIFIED:20250831T182052Z
UID:10002801-1769340600-1769340600@tashmina.co.uk
SUMMARY:Leidse Schouwburg - Stadsgehoorzaal: Leiden
DESCRIPTION:Sacred and Profane  \nNot an immediate image of Beethoven in the popular imagination\, but he was a master of juxtaposing the sacred and the profane. Often letting the profane and humour have the last words\, as is the case in his culminating final piano trio Op. 97 that was the last piece he performed in public. \nLudwig van Beethoven: Piano Trio in G major\, op. 1\, no. 2Ludwig van Beethoven\, arr. Beethoven: Scherzo and Finale\, from Symphony no. 2 in D major\, op. 36IntervalLudwig van Beethoven: Piano Trio in B flat major\, op. 97\, Archduke
URL:https://tashmina.co.uk/concert/leidse-schouwburg-stadsgehoorzaal-leiden-2/
LOCATION:Stadsgehoorzaal Leiden\, Breestraat 60\, Leiden\, Leiden\, 2311 CS\, Netherlands
CATEGORIES:Linos Piano Trio
ATTACH;FMTTYPE=image/jpeg:https://tashmina.co.uk/wp-content/uploads/Linos_Piano_Trio_Ref_03733_Please_credit_Kaupo_Kikkas-SMed.jpg
GEO:52.1594835;4.4888242
X-APPLE-STRUCTURED-LOCATION;VALUE=URI;X-ADDRESS=Stadsgehoorzaal Leiden Breestraat 60 Leiden Leiden 2311 CS Netherlands;X-APPLE-RADIUS=500;X-TITLE=Breestraat 60:geo:4.4888242,52.1594835
END:VEVENT
BEGIN:VEVENT
DTSTART;TZID=Europe/London:20260124T201500
DTEND;TZID=Europe/London:20260124T201500
DTSTAMP:20260422T172347
CREATED:20250113T184256Z
LAST-MODIFIED:20260120T103722Z
UID:10002802-1769285700-1769285700@tashmina.co.uk
SUMMARY:Leidse Schouwburg - Stadsgehoorzaal: Leiden
DESCRIPTION:Sturm und Drang \nHaydn famously didn’t like Beethoven’s extreme dramatic style in Op. 1/3\, but we trace the opening theme back to Haydn’s own String Quartet. The “storm” topic continues to inspire Beethoven to experiment with cloudy sounds in the Ghost trio. \nBoldComposer\nFranz Joseph Haydn\, arr. Linos Piano Trio: Quartet no. 25 in C major\, op. 20\, no. 2\, Hob.III:32\, Capriccio: Adagio\nLudwig van Beethoven: Piano Trio in C minor\, op. 1\, no. 3\nInterval\nLudwig van Beethoven: Piano Trio in D Major\, op. 70\, no. 1\, Ghost
URL:https://tashmina.co.uk/concert/leidse-schouwburg-stadsgehoorzaal-leiden-3/
LOCATION:Stadsgehoorzaal Leiden\, Breestraat 60\, Leiden\, Leiden\, 2311 CS\, Netherlands
CATEGORIES:Linos Piano Trio
ATTACH;FMTTYPE=image/jpeg:https://tashmina.co.uk/wp-content/uploads/Linos_Piano_Trio_Ref_03391_Please_credit_Kaupo_Kikkas-SMed.jpg
GEO:52.1594835;4.4888242
X-APPLE-STRUCTURED-LOCATION;VALUE=URI;X-ADDRESS=Stadsgehoorzaal Leiden Breestraat 60 Leiden Leiden 2311 CS Netherlands;X-APPLE-RADIUS=500;X-TITLE=Breestraat 60:geo:4.4888242,52.1594835
END:VEVENT
BEGIN:VEVENT
DTSTART;TZID=Europe/London:20260124T191500
DTEND;TZID=Europe/London:20260124T201500
DTSTAMP:20260422T172347
CREATED:20251127T095910Z
LAST-MODIFIED:20260120T103606Z
UID:10003371-1769282100-1769285700@tashmina.co.uk
SUMMARY:Leidse Schouwburg - Stadsgehoorzaal: Leiden
DESCRIPTION:Pre-concert talk \nIn 2024-2025\, the Linos Piano Trio recorded the complete Beethoven Trios on three different historical instruments\, tracing the technological changes throughout the composer’s life.\nThe trio will discuss how its interpretation of these works have transformed in the process\, and how the cycle at Leiden Stadsgehoorzaal takes a further step of combining the original works with various symphonic transcriptions.
URL:https://tashmina.co.uk/concert/leidse-schouwburg-stadsgehoorzaal-leiden-5/
LOCATION:Stadsgehoorzaal Leiden\, Breestraat 60\, Leiden\, Leiden\, 2311 CS\, Netherlands
CATEGORIES:Linos Piano Trio
ATTACH;FMTTYPE=image/jpeg:https://tashmina.co.uk/wp-content/uploads/Linos_Piano_Trio_Ref_Landscape2021_Please_Credit_Tim_Mintiens-SMed.jpg
GEO:52.1594835;4.4888242
X-APPLE-STRUCTURED-LOCATION;VALUE=URI;X-ADDRESS=Stadsgehoorzaal Leiden Breestraat 60 Leiden Leiden 2311 CS Netherlands;X-APPLE-RADIUS=500;X-TITLE=Breestraat 60:geo:4.4888242,52.1594835
END:VEVENT
BEGIN:VEVENT
DTSTART;TZID=Europe/London:20260123T201500
DTEND;TZID=Europe/London:20260123T201500
DTSTAMP:20260422T172347
CREATED:20250113T184257Z
LAST-MODIFIED:20260127T100903Z
UID:10002803-1769199300-1769199300@tashmina.co.uk
SUMMARY:Leidse Schouwburg - Stadsgehoorzaal: Leiden
DESCRIPTION:Eroica (or Heroic)\nThe “heroic” topic was prevalent around 1800 as Europe was entangled in the Napoleonic wars.\nBeethoven’s 3rd Symphony has come to be a flag bearer of this movement in music. In the same key of E-flat\, we hear echoes of the revolutionary sentiments in both Op. 1/1 and Op. 70/2. \nLudwig van Beethoven: Piano Trio in E flat major\, op. 1\, no. 1\nLudwig van Beethoven\, arr. Linos Piano Trio: Finale from Symphony no. 3 in E flat major\, op. 55\, Eroica\nInterval\nLudwig van Beethoven: Piano Trio in E flat major\, op. 70\, no. 2
URL:https://tashmina.co.uk/concert/leidse-schouwburg-stadsgehoorzaal-leiden-4/
LOCATION:Stadsgehoorzaal Leiden\, Breestraat 60\, Leiden\, Leiden\, 2311 CS\, Netherlands
CATEGORIES:Linos Piano Trio
ATTACH;FMTTYPE=image/jpeg:https://tashmina.co.uk/wp-content/uploads/Linos_Piano_Trio_Ref_03391_Please_credit_Kaupo_Kikkas-SMed.jpg
GEO:52.1594835;4.4888242
X-APPLE-STRUCTURED-LOCATION;VALUE=URI;X-ADDRESS=Stadsgehoorzaal Leiden Breestraat 60 Leiden Leiden 2311 CS Netherlands;X-APPLE-RADIUS=500;X-TITLE=Breestraat 60:geo:4.4888242,52.1594835
END:VEVENT
BEGIN:VEVENT
DTSTART;TZID=Europe/London:20241215T113000
DTEND;TZID=Europe/London:20241215T113000
DTSTAMP:20260422T172347
CREATED:20240723T161500Z
LAST-MODIFIED:20241115T075116Z
UID:10002560-1734262200-1734262200@tashmina.co.uk
SUMMARY:Leidse Schouwburg - Stadsgehoorzaal: Leiden
DESCRIPTION:Gabriel Fauré: Piano Trio in D minor\, op. 120Fanny Mendelssohn: Piano Trio in D minor\, op. 11IntervalPyotr Il’yich Tchaikovsky\, arr. Linos Piano Trio: Nutcracker SuitePaul Dukas\, arr. Linos Piano Trio: L’apprenti sorcier
URL:https://tashmina.co.uk/concert/leidse-schouwburg-stadsgehoorzaal-leiden/
LOCATION:Stadsgehoorzaal Leiden\, Breestraat 60\, Leiden\, Leiden\, 2311 CS\, Netherlands
CATEGORIES:Linos Piano Trio
ATTACH;FMTTYPE=image/jpeg:https://tashmina.co.uk/wp-content/uploads/Linos_Piano_Trio_Ref_Landscape2021_Please_Credit_Tim_Mintiens-SMed.jpg
GEO:52.1594835;4.4888242
X-APPLE-STRUCTURED-LOCATION;VALUE=URI;X-ADDRESS=Stadsgehoorzaal Leiden Breestraat 60 Leiden Leiden 2311 CS Netherlands;X-APPLE-RADIUS=500;X-TITLE=Breestraat 60:geo:4.4888242,52.1594835
END:VEVENT
END:VCALENDAR