BEGIN:VCALENDAR
VERSION:2.0
PRODID:-//Tashmina Artists - ECPv6.15.20//NONSGML v1.0//EN
CALSCALE:GREGORIAN
METHOD:PUBLISH
X-WR-CALNAME:Tashmina Artists
X-ORIGINAL-URL:https://tashmina.co.uk
X-WR-CALDESC:Events for Tashmina Artists
REFRESH-INTERVAL;VALUE=DURATION:PT1H
X-Robots-Tag:noindex
X-PUBLISHED-TTL:PT1H
BEGIN:VTIMEZONE
TZID:Europe/London
BEGIN:DAYLIGHT
TZOFFSETFROM:+0000
TZOFFSETTO:+0100
TZNAME:BST
DTSTART:20230326T010000
END:DAYLIGHT
BEGIN:STANDARD
TZOFFSETFROM:+0100
TZOFFSETTO:+0000
TZNAME:GMT
DTSTART:20231029T010000
END:STANDARD
BEGIN:DAYLIGHT
TZOFFSETFROM:+0000
TZOFFSETTO:+0100
TZNAME:BST
DTSTART:20240331T010000
END:DAYLIGHT
BEGIN:STANDARD
TZOFFSETFROM:+0100
TZOFFSETTO:+0000
TZNAME:GMT
DTSTART:20241027T010000
END:STANDARD
BEGIN:DAYLIGHT
TZOFFSETFROM:+0000
TZOFFSETTO:+0100
TZNAME:BST
DTSTART:20250330T010000
END:DAYLIGHT
BEGIN:STANDARD
TZOFFSETFROM:+0100
TZOFFSETTO:+0000
TZNAME:GMT
DTSTART:20251026T010000
END:STANDARD
END:VTIMEZONE
BEGIN:VEVENT
DTSTART;TZID=Europe/London:20241127T200000
DTEND;TZID=Europe/London:20241127T200000
DTSTAMP:20260419T135415
CREATED:20240506T185045Z
LAST-MODIFIED:20241016T070921Z
UID:10002474-1732737600-1732737600@tashmina.co.uk
SUMMARY:Guitarra Viva Zagreb: Zagreb
DESCRIPTION:Johann Sebastian Bach\, arr. Montenegrin Guitar Duo: French Suite no. 1 in D minor\, BWV 812Fernando Sor: L’Encouragement\, op. 34IntervalŠimun Čarli Botica: Ex NihiloAstor Piazzolla\, arr. Sergio Assad: Suite TroileanaManuel De Falla\, arr. Gruber & Maklar: Danza Ritual del FuegoManuel De Falla: Danza del Molinero
URL:https://tashmina.co.uk/concert/guitarra-viva-zagreb-zagreb/
LOCATION:Vatroslav Lisinski Concert Hall\, Trg Stjepana Radića\, Zagreb\, Grad Zagreb\, 10000\, Croatia
CATEGORIES:Montenegrin Guitar Duo
ATTACH;FMTTYPE=image/jpeg:https://tashmina.co.uk/wp-content/uploads/Montenegrin_Guitar_Duo_Ref_2_Please_Credit_Shayne_Gray-SMed.jpg
GEO:45.8007725;15.9798419
X-APPLE-STRUCTURED-LOCATION;VALUE=URI;X-ADDRESS=Vatroslav Lisinski Concert Hall Trg Stjepana Radića Zagreb Grad Zagreb 10000 Croatia;X-APPLE-RADIUS=500;X-TITLE=Trg Stjepana Radića:geo:15.9798419,45.8007725
END:VEVENT
END:VCALENDAR