BEGIN:VCALENDAR
VERSION:2.0
PRODID:-//Tashmina Artists - ECPv6.15.20//NONSGML v1.0//EN
CALSCALE:GREGORIAN
METHOD:PUBLISH
X-ORIGINAL-URL:https://tashmina.co.uk
X-WR-CALDESC:Events for Tashmina Artists
REFRESH-INTERVAL;VALUE=DURATION:PT1H
X-Robots-Tag:noindex
X-PUBLISHED-TTL:PT1H
BEGIN:VTIMEZONE
TZID:Europe/London
BEGIN:DAYLIGHT
TZOFFSETFROM:+0000
TZOFFSETTO:+0100
TZNAME:BST
DTSTART:20220327T010000
END:DAYLIGHT
BEGIN:STANDARD
TZOFFSETFROM:+0100
TZOFFSETTO:+0000
TZNAME:GMT
DTSTART:20221030T010000
END:STANDARD
BEGIN:DAYLIGHT
TZOFFSETFROM:+0000
TZOFFSETTO:+0100
TZNAME:BST
DTSTART:20230326T010000
END:DAYLIGHT
BEGIN:STANDARD
TZOFFSETFROM:+0100
TZOFFSETTO:+0000
TZNAME:GMT
DTSTART:20231029T010000
END:STANDARD
BEGIN:DAYLIGHT
TZOFFSETFROM:+0000
TZOFFSETTO:+0100
TZNAME:BST
DTSTART:20240331T010000
END:DAYLIGHT
BEGIN:STANDARD
TZOFFSETFROM:+0100
TZOFFSETTO:+0000
TZNAME:GMT
DTSTART:20241027T010000
END:STANDARD
END:VTIMEZONE
BEGIN:VEVENT
DTSTART;TZID=Europe/London:20230510T193000
DTEND;TZID=Europe/London:20230510T193000
DTSTAMP:20260420T203348
CREATED:20230418T144324Z
LAST-MODIFIED:20231009T054012Z
UID:10001863-1683747000-1683747000@tashmina.co.uk
SUMMARY:Chipping Campden International Music Festival: Gloucestershire
DESCRIPTION:The Wigmore Soloists \nWolfgang Amadeus Mozart: Clarinet Quintet in A major\, K. 581Franz Schubert: Octet in F major\, D. 803
URL:https://tashmina.co.uk/concert/chipping-campden-international-music-festival-gloucestershire/
LOCATION:St. James’ Church\, Chipping Campden\, Church Street\, Gloucestershire\, GL55 6JG\, England
CATEGORIES:Rachel Roberts
ATTACH;FMTTYPE=image/jpeg:https://tashmina.co.uk/wp-content/uploads/Rachel_Roberts_ref_KIK06024_Please_credit_Kaupo_Kikkas.jpg
GEO:52.052346;-1.7768928
X-APPLE-STRUCTURED-LOCATION;VALUE=URI;X-ADDRESS=St. James’ Church Chipping Campden Church Street Gloucestershire GL55 6JG England;X-APPLE-RADIUS=500;X-TITLE=Church Street:geo:-1.7768928,52.052346
END:VEVENT
END:VCALENDAR