BEGIN:VCALENDAR
VERSION:2.0
PRODID:-//Tashmina Artists - ECPv6.15.20//NONSGML v1.0//EN
CALSCALE:GREGORIAN
METHOD:PUBLISH
X-WR-CALNAME:Tashmina Artists
X-ORIGINAL-URL:https://tashmina.co.uk
X-WR-CALDESC:Events for Tashmina Artists
REFRESH-INTERVAL;VALUE=DURATION:PT1H
X-Robots-Tag:noindex
X-PUBLISHED-TTL:PT1H
BEGIN:VTIMEZONE
TZID:Europe/London
BEGIN:DAYLIGHT
TZOFFSETFROM:+0000
TZOFFSETTO:+0100
TZNAME:BST
DTSTART:20250330T010000
END:DAYLIGHT
BEGIN:STANDARD
TZOFFSETFROM:+0100
TZOFFSETTO:+0000
TZNAME:GMT
DTSTART:20251026T010000
END:STANDARD
BEGIN:DAYLIGHT
TZOFFSETFROM:+0000
TZOFFSETTO:+0100
TZNAME:BST
DTSTART:20260329T010000
END:DAYLIGHT
BEGIN:STANDARD
TZOFFSETFROM:+0100
TZOFFSETTO:+0000
TZNAME:GMT
DTSTART:20261025T010000
END:STANDARD
BEGIN:DAYLIGHT
TZOFFSETFROM:+0000
TZOFFSETTO:+0100
TZNAME:BST
DTSTART:20270328T010000
END:DAYLIGHT
BEGIN:STANDARD
TZOFFSETFROM:+0100
TZOFFSETTO:+0000
TZNAME:GMT
DTSTART:20271031T010000
END:STANDARD
END:VTIMEZONE
BEGIN:VEVENT
DTSTART;TZID=Europe/London:20260729T193000
DTEND;TZID=Europe/London:20260729T193000
DTSTAMP:20260420T093940
CREATED:20260325T123515Z
LAST-MODIFIED:20260325T123515Z
UID:10003490-1785353400-1785353400@tashmina.co.uk
SUMMARY:Fishguard International Music Festival: Pembrokeshire
DESCRIPTION:With Welsh National Opera Wind Soloists \nWolfgang Amadeus Mozart: Quintet in E flat major for Piano and Winds\, K. 452Claude Debussy: SyrinxGyörgy Ligeti: Six BagatellesIntervalRichard Walthew: Trio for Clarinet\, Horn\, and PianoFrancis Poulenc: Sextet for Wind Quintet and Piano in C major
URL:https://tashmina.co.uk/concert/fishguard-international-music-festival-pembrokeshire/
LOCATION:Neuadd y Dderwen\, Rhosygilwen\, Pembrokeshire\, SA43 2TW\, Wales
CATEGORIES:Tim Horton
ATTACH;FMTTYPE=image/jpeg:https://tashmina.co.uk/wp-content/uploads/Tim_Horton_Ref_07663_Please_credit_Andrej_Grilc.jpg
GEO:52.0353507;-4.61904
X-APPLE-STRUCTURED-LOCATION;VALUE=URI;X-ADDRESS=Neuadd y Dderwen Rhosygilwen Pembrokeshire SA43 2TW Wales;X-APPLE-RADIUS=500;X-TITLE=Rhosygilwen:geo:-4.61904,52.0353507
END:VEVENT
END:VCALENDAR