BEGIN:VCALENDAR
VERSION:2.0
PRODID:-//Tashmina Artists - ECPv6.15.20//NONSGML v1.0//EN
CALSCALE:GREGORIAN
METHOD:PUBLISH
X-WR-CALNAME:Tashmina Artists
X-ORIGINAL-URL:https://tashmina.co.uk
X-WR-CALDESC:Events for Tashmina Artists
REFRESH-INTERVAL;VALUE=DURATION:PT1H
X-Robots-Tag:noindex
X-PUBLISHED-TTL:PT1H
BEGIN:VTIMEZONE
TZID:Europe/London
BEGIN:DAYLIGHT
TZOFFSETFROM:+0000
TZOFFSETTO:+0100
TZNAME:BST
DTSTART:20250330T010000
END:DAYLIGHT
BEGIN:STANDARD
TZOFFSETFROM:+0100
TZOFFSETTO:+0000
TZNAME:GMT
DTSTART:20251026T010000
END:STANDARD
BEGIN:DAYLIGHT
TZOFFSETFROM:+0000
TZOFFSETTO:+0100
TZNAME:BST
DTSTART:20260329T010000
END:DAYLIGHT
BEGIN:STANDARD
TZOFFSETFROM:+0100
TZOFFSETTO:+0000
TZNAME:GMT
DTSTART:20261025T010000
END:STANDARD
BEGIN:DAYLIGHT
TZOFFSETFROM:+0000
TZOFFSETTO:+0100
TZNAME:BST
DTSTART:20270328T010000
END:DAYLIGHT
BEGIN:STANDARD
TZOFFSETFROM:+0100
TZOFFSETTO:+0000
TZNAME:GMT
DTSTART:20271031T010000
END:STANDARD
END:VTIMEZONE
BEGIN:VEVENT
DTSTART;TZID=Europe/London:20260425T110000
DTEND;TZID=Europe/London:20260425T110000
DTSTAMP:20260424T004603
CREATED:20250815T134942Z
LAST-MODIFIED:20260212T174537Z
UID:10003160-1777114800-1777114800@tashmina.co.uk
SUMMARY:Music in the Round: Doncaster
DESCRIPTION:Paul Rissmann: The Storm Whale
URL:https://tashmina.co.uk/concert/music-in-the-round-doncaster-21/
LOCATION:Cast\, Second Space\, Waterdale\, Doncaster\, Doncaster\, DN1 3BU\, England
CATEGORIES:Ensemble 360,Robert Plane
ATTACH;FMTTYPE=image/png:https://tashmina.co.uk/wp-content/uploads/MusicintheRoundLogo-Smed.png
GEO:53.5202117;-1.1322482
X-APPLE-STRUCTURED-LOCATION;VALUE=URI;X-ADDRESS=Cast Second Space Waterdale Doncaster Doncaster DN1 3BU England;X-APPLE-RADIUS=500;X-TITLE=Waterdale:geo:-1.1322482,53.5202117
END:VEVENT
BEGIN:VEVENT
DTSTART;TZID=Europe/London:20260425T191500
DTEND;TZID=Europe/London:20260425T191500
DTSTAMP:20260424T004603
CREATED:20250815T134945Z
LAST-MODIFIED:20250905T092328Z
UID:10003161-1777144500-1777144500@tashmina.co.uk
SUMMARY:Music in the Round: Doncaster
DESCRIPTION:Imogen Holst: Phantasy String QuartetBenjamin Britten: Three DivertimentiJosef Holbrooke: Eilean Shona op.74Herbert Howells: Phantasy String Quartet op. 25IntervalHenry Purcell\, arr. Peter Warlock:  Three-Part Fantasias no. 1-3Pamela Harrison: Quintet for clarinet and stringsRalph Vaughan Williams\, arr. Martin Gerigk: The Lark Ascending
URL:https://tashmina.co.uk/concert/music-in-the-round-doncaster-22/
LOCATION:Cast\, Main Space\, Waterdale\, Doncaster\, Doncaster\, DN1 3BU\, England
CATEGORIES:Ensemble 360,Rachel Roberts,Robert Plane
ATTACH;FMTTYPE=image/png:https://tashmina.co.uk/wp-content/uploads/MusicintheRoundLogo-Smed.png
GEO:53.5202117;-1.1322482
X-APPLE-STRUCTURED-LOCATION;VALUE=URI;X-ADDRESS=Cast Main Space Waterdale Doncaster Doncaster DN1 3BU England;X-APPLE-RADIUS=500;X-TITLE=Waterdale:geo:-1.1322482,53.5202117
END:VEVENT
BEGIN:VEVENT
DTSTART;TZID=Europe/London:20260427T133000
DTEND;TZID=Europe/London:20260427T133000
DTSTAMP:20260424T004603
CREATED:20250923T095813Z
LAST-MODIFIED:20260317T112006Z
UID:10003200-1777296600-1777296600@tashmina.co.uk
SUMMARY:Music in the Round: Hastings
DESCRIPTION:Paul Rissmann: The Storm Whale
URL:https://tashmina.co.uk/concert/music-in-the-round-hastings-3/
LOCATION:White Rock Theatre Main Space\, White Rock\, Hastings\, TN34 1 JX\, England
CATEGORIES:Ensemble 360,Robert Plane
ATTACH;FMTTYPE=image/png:https://tashmina.co.uk/wp-content/uploads/MusicintheRoundLogo-Smed.png
GEO:50.8534596;0.5724395
X-APPLE-STRUCTURED-LOCATION;VALUE=URI;X-ADDRESS=White Rock Theatre Main Space White Rock Hastings TN34 1 JX England;X-APPLE-RADIUS=500;X-TITLE=White Rock:geo:0.5724395,50.8534596
END:VEVENT
BEGIN:VEVENT
DTSTART;TZID=Europe/London:20260427T193000
DTEND;TZID=Europe/London:20260427T193000
DTSTAMP:20260424T004603
CREATED:20250923T095815Z
LAST-MODIFIED:20260317T112008Z
UID:10003201-1777318200-1777318200@tashmina.co.uk
SUMMARY:Music in the Round: Hastings
DESCRIPTION:Imogen Holst: Phantasy String QuartetBenjamin Britten: Three DivertimentiJosef Holbrooke: Eilean Shona op.74Herbert Howells: Phantasy String Quartet op. 25IntervalHenry Purcell\, arr. Peter Warlock:  Three-Part Fantasias no. 1-3Pamela Harrison: Quintet for clarinet and stringsRalph Vaughan Williams\, arr. Martin Gerigk: The Lark Ascending
URL:https://tashmina.co.uk/concert/music-in-the-round-hastings-4/
LOCATION:White Rock Theatre Studio 27\, White Rock\, Hastings\, TN34 1 JX\, England
CATEGORIES:Ensemble 360,Rachel Roberts,Robert Plane
ATTACH;FMTTYPE=image/png:https://tashmina.co.uk/wp-content/uploads/MusicintheRoundLogo-Smed.png
GEO:50.8534596;0.5724395
X-APPLE-STRUCTURED-LOCATION;VALUE=URI;X-ADDRESS=White Rock Theatre Studio 27 White Rock Hastings TN34 1 JX England;X-APPLE-RADIUS=500;X-TITLE=White Rock:geo:0.5724395,50.8534596
END:VEVENT
END:VCALENDAR