BEGIN:VCALENDAR
VERSION:2.0
PRODID:-//Tashmina Artists - ECPv6.15.20//NONSGML v1.0//EN
CALSCALE:GREGORIAN
METHOD:PUBLISH
X-ORIGINAL-URL:https://tashmina.co.uk
X-WR-CALDESC:Events for Tashmina Artists
REFRESH-INTERVAL;VALUE=DURATION:PT1H
X-Robots-Tag:noindex
X-PUBLISHED-TTL:PT1H
BEGIN:VTIMEZONE
TZID:Europe/London
BEGIN:DAYLIGHT
TZOFFSETFROM:+0000
TZOFFSETTO:+0100
TZNAME:BST
DTSTART:20190331T010000
END:DAYLIGHT
BEGIN:STANDARD
TZOFFSETFROM:+0100
TZOFFSETTO:+0000
TZNAME:GMT
DTSTART:20191027T010000
END:STANDARD
BEGIN:DAYLIGHT
TZOFFSETFROM:+0000
TZOFFSETTO:+0100
TZNAME:BST
DTSTART:20200329T010000
END:DAYLIGHT
BEGIN:STANDARD
TZOFFSETFROM:+0100
TZOFFSETTO:+0000
TZNAME:GMT
DTSTART:20201025T010000
END:STANDARD
BEGIN:DAYLIGHT
TZOFFSETFROM:+0000
TZOFFSETTO:+0100
TZNAME:BST
DTSTART:20210328T010000
END:DAYLIGHT
BEGIN:STANDARD
TZOFFSETFROM:+0100
TZOFFSETTO:+0000
TZNAME:GMT
DTSTART:20211031T010000
END:STANDARD
END:VTIMEZONE
BEGIN:VEVENT
DTSTART;TZID=Europe/London:20201111T193000
DTEND;TZID=Europe/London:20201111T193000
DTSTAMP:20260419T132328
CREATED:20200602T170154Z
LAST-MODIFIED:20220806T150407Z
UID:10000672-1605123000-1605123000@tashmina.co.uk
SUMMARY:Cancelled - Three Rivers Music Society: Rickmansworth
DESCRIPTION:Schumann Märchenbilder\, op. 113\nBrahms Sonata for Viola and Piano in F minor\, op. 120\, no. 1\nPütz Blues for Benni\nClarke Viola Sonata
URL:https://tashmina.co.uk/concert/three-rivers-music-society-rickmansworth-2/
LOCATION:The Baptist Church\, Rickmansworth\, High Street\, Rickmansworth\, WD3 1EH\, England
CATEGORIES:Rachel Roberts,Rachel Roberts and Tim Horton
GEO:51.6388872;-0.4676003
X-APPLE-STRUCTURED-LOCATION;VALUE=URI;X-ADDRESS=The Baptist Church Rickmansworth High Street Rickmansworth WD3 1EH England;X-APPLE-RADIUS=500;X-TITLE=High Street:geo:-0.4676003,51.6388872
END:VEVENT
BEGIN:VEVENT
DTSTART;TZID=Europe/London:20201029T193000
DTEND;TZID=Europe/London:20201029T193000
DTSTAMP:20260419T132328
CREATED:20200608T080826Z
LAST-MODIFIED:20200927T152838Z
UID:10000688-1603999800-1603999800@tashmina.co.uk
SUMMARY:Barnes Music Society: London
DESCRIPTION:Rachel Roberts (viola)\nTim Horton (piano)
URL:https://tashmina.co.uk/concert/barnes-music-society-london/
LOCATION:St. Mary’s Church\, Barnes\, Church Road\, Barnes\, London\, London\, SW13 9HL\, England
CATEGORIES:Rachel Roberts,Rachel Roberts and Tim Horton
GEO:51.4747598;-0.2412879
X-APPLE-STRUCTURED-LOCATION;VALUE=URI;X-ADDRESS=St. Mary’s Church Barnes Church Road Barnes London London SW13 9HL England;X-APPLE-RADIUS=500;X-TITLE=Church Road\, Barnes\, London:geo:-0.2412879,51.4747598
END:VEVENT
END:VCALENDAR